BEGIN:VCALENDAR
VERSION:2.0
CALSCALE:GREGORIAN
PRODID:adamgibbons/ics
METHOD:PUBLISH
X-PUBLISHED-TTL:PT1H
BEGIN:VEVENT
UID:19262@offbeat.amsterdam
SUMMARY:Love International w/ Tornado Wallace • Chez de Milo • Iggy P
DTSTAMP:20260420T062528Z
DTSTART:20260424T210000Z
DTEND:20260425T030000Z
URL:https://offbeat.amsterdam/event/love-international-with-tornado-wallace
	-chez-de-milo-and-iggy-p
LOCATION:Radio Radio - Pazzanistraat 3\, 1014 DB Amsterdam
STATUS:CONFIRMED
CATEGORIES:amsterdam-west,westerpark
END:VEVENT
BEGIN:VEVENT
UID:19001@offbeat.amsterdam
SUMMARY:BELLA • Carlos Valdes
DTSTAMP:20260420T062528Z
DTSTART:20260425T210000Z
DTEND:20260426T030000Z
URL:https://offbeat.amsterdam/event/bella-carlos-valdes
LOCATION:Radio Radio - Pazzanistraat 3\, 1014 DB Amsterdam
STATUS:CONFIRMED
CATEGORIES:amsterdam-west,westerpark
END:VEVENT
BEGIN:VEVENT
UID:19516@offbeat.amsterdam
SUMMARY:Kingsnight w/ Tom Trago • Justin Verkijk • Laura Meester
DTSTAMP:20260420T062528Z
DTSTART:20260426T210000Z
DTEND:20260427T030000Z
URL:https://offbeat.amsterdam/event/kingsnight-with-tom-trago-justin-verkij
	k-laura-meester
LOCATION:Radio Radio - Pazzanistraat 3\, 1014 DB Amsterdam
STATUS:CONFIRMED
CATEGORIES:westerpark,amsterdam-west
END:VEVENT
BEGIN:VEVENT
UID:19515@offbeat.amsterdam
SUMMARY:Kingsday Block Party - FREE (More info soon)
DTSTAMP:20260420T062528Z
DTSTART:20260427T100000Z
DTEND:20260427T180000Z
URL:https://offbeat.amsterdam/event/kingsday-block-party-free-more-info-soo
	n
LOCATION:Radio Radio - Pazzanistraat 3\, 1014 DB Amsterdam
STATUS:CONFIRMED
CATEGORIES:westerpark,amsterdam-west,party
END:VEVENT
BEGIN:VEVENT
UID:20016@offbeat.amsterdam
SUMMARY:Kingsday After (TBA)
DTSTAMP:20260420T062528Z
DTSTART:20260427T180000Z
DTEND:20260428T030000Z
URL:https://offbeat.amsterdam/event/kingsday-after-tba
LOCATION:Radio Radio - Pazzanistraat 3\, 1014 DB Amsterdam
STATUS:CONFIRMED
CATEGORIES:dance,amsterdam-west,westerpark
END:VEVENT
BEGIN:VEVENT
UID:20774@offbeat.amsterdam
SUMMARY:Pangaea • Jasmín
DTSTAMP:20260420T062528Z
DTSTART:20260501T210000Z
DTEND:20260502T030000Z
URL:https://offbeat.amsterdam/event/pangaea-jasmin-1
LOCATION:Radio Radio - Pazzanistraat 3\, 1014 DB Amsterdam
STATUS:CONFIRMED
CATEGORIES:westerpark,amsterdam-west
END:VEVENT
BEGIN:VEVENT
UID:20769@offbeat.amsterdam
SUMMARY:Bambounou • Maria Louisa
DTSTAMP:20260420T062528Z
DTSTART:20260502T210000Z
DTEND:20260503T030000Z
URL:https://offbeat.amsterdam/event/bambounou-maria-louisa
LOCATION:Radio Radio - Pazzanistraat 3\, 1014 DB Amsterdam
STATUS:CONFIRMED
CATEGORIES:westerpark,amsterdam-west
END:VEVENT
BEGIN:VEVENT
UID:20772@offbeat.amsterdam
SUMMARY:LIBERADIO Block Party
DTSTAMP:20260420T062528Z
DTSTART:20260505T110000Z
DTEND:20260505T200000Z
URL:https://offbeat.amsterdam/event/liberadio-block-party
LOCATION:Radio Radio - Pazzanistraat 3\, 1014 DB Amsterdam
STATUS:CONFIRMED
CATEGORIES:amsterdam-west,westerpark,party,dj
END:VEVENT
BEGIN:VEVENT
UID:20771@offbeat.amsterdam
SUMMARY:LIBERADIO After Party
DTSTAMP:20260420T062528Z
DTSTART:20260505T200000Z
DTEND:20260506T020000Z
URL:https://offbeat.amsterdam/event/liberadio-after-party
LOCATION:Radio Radio - Pazzanistraat 3\, 1014 DB Amsterdam
STATUS:CONFIRMED
CATEGORIES:party,westerpark,amsterdam-west
END:VEVENT
BEGIN:VEVENT
UID:20770@offbeat.amsterdam
SUMMARY:Cinthie all night
DTSTAMP:20260420T062528Z
DTSTART:20260508T210000Z
DTEND:20260509T030000Z
URL:https://offbeat.amsterdam/event/cinthie-all-night-1
LOCATION:Radio Radio - Pazzanistraat 3\, 1014 DB Amsterdam
STATUS:CONFIRMED
CATEGORIES:westerpark,amsterdam-west
END:VEVENT
BEGIN:VEVENT
UID:20773@offbeat.amsterdam
SUMMARY:Marie Montexier • Hannecart • Patrizio Scope
DTSTAMP:20260420T062528Z
DTSTART:20260509T210000Z
DTEND:20260510T030000Z
URL:https://offbeat.amsterdam/event/marie-montexier-hannecart-patrizio-scop
	e
LOCATION:Radio Radio - Pazzanistraat 3\, 1014 DB Amsterdam
STATUS:CONFIRMED
CATEGORIES:westerpark,amsterdam-west
END:VEVENT
BEGIN:VEVENT
UID:20908@offbeat.amsterdam
SUMMARY:David Vunk • Loradeniz
DTSTAMP:20260420T062528Z
DTSTART:20260513T210000Z
DTEND:20260514T030000Z
URL:https://offbeat.amsterdam/event/david-vunk-loradeniz
LOCATION:Radio Radio - Pazzanistraat 3\, 1014 DB Amsterdam
STATUS:CONFIRMED
CATEGORIES:westerpark,amsterdam-west
END:VEVENT
BEGIN:VEVENT
UID:20775@offbeat.amsterdam
SUMMARY:RAW: Wes Lee • RICKS • Solara Fox • Nosso • Omari • NARADA b2b Dona
	to Mijnals
DTSTAMP:20260420T062528Z
DTSTART:20260514T140000Z
DTEND:20260515T000000Z
URL:https://offbeat.amsterdam/event/raw-wes-lee-ricks-solara-fox-nosso-omar
	i-narada-b2b-donato-mijnals
LOCATION:Radio Radio - Pazzanistraat 3\, 1014 DB Amsterdam
STATUS:CONFIRMED
CATEGORIES:amsterdam-west,dj,westerpark
END:VEVENT
BEGIN:VEVENT
UID:20896@offbeat.amsterdam
SUMMARY:Pariah • Monty DJ
DTSTAMP:20260420T062528Z
DTSTART:20260515T210000Z
DTEND:20260516T030000Z
URL:https://offbeat.amsterdam/event/pariah-monty-dj
LOCATION:Radio Radio - Pazzanistraat 3\, 1014 DB Amsterdam
STATUS:CONFIRMED
CATEGORIES:westerpark,amsterdam-west,dj
END:VEVENT
BEGIN:VEVENT
UID:20893@offbeat.amsterdam
SUMMARY:Cromby • lizz.e
DTSTAMP:20260420T062528Z
DTSTART:20260516T210000Z
DTEND:20260517T030000Z
URL:https://offbeat.amsterdam/event/cromby-lizze
LOCATION:Radio Radio - Pazzanistraat 3\, 1014 DB Amsterdam
STATUS:CONFIRMED
CATEGORIES:amsterdam-west,westerpark
END:VEVENT
BEGIN:VEVENT
UID:20894@offbeat.amsterdam
SUMMARY:Doudou MD • livwutang
DTSTAMP:20260420T062528Z
DTSTART:20260522T210000Z
DTEND:20260523T030000Z
URL:https://offbeat.amsterdam/event/doudou-md-livwutang
LOCATION:Radio Radio - Pazzanistraat 3\, 1014 DB Amsterdam
STATUS:CONFIRMED
CATEGORIES:westerpark,amsterdam-west
END:VEVENT
BEGIN:VEVENT
UID:20912@offbeat.amsterdam
SUMMARY:Sansibar • ZTO
DTSTAMP:20260420T062528Z
DTSTART:20260523T210000Z
DTEND:20260524T030000Z
URL:https://offbeat.amsterdam/event/sansibar-zto
LOCATION:Radio Radio - Pazzanistraat 3\, 1014 DB Amsterdam
STATUS:CONFIRMED
CATEGORIES:westerpark,amsterdam-west
END:VEVENT
BEGIN:VEVENT
UID:20909@offbeat.amsterdam
SUMMARY:Detroit in Effect • Serge
DTSTAMP:20260420T062528Z
DTSTART:20260524T210000Z
DTEND:20260525T030000Z
URL:https://offbeat.amsterdam/event/detroit-in-effect-serge
LOCATION:Radio Radio - Pazzanistraat 3\, 1014 DB Amsterdam
STATUS:CONFIRMED
CATEGORIES:westerpark,amsterdam-west
END:VEVENT
BEGIN:VEVENT
UID:20910@offbeat.amsterdam
SUMMARY:Interstellar Funk b2b Jorge Caiado
DTSTAMP:20260420T062528Z
DTSTART:20260529T210000Z
DTEND:20260530T030000Z
URL:https://offbeat.amsterdam/event/interstellar-funk-b2b-jorge-caiado
LOCATION:Radio Radio - Pazzanistraat 3\, 1014 DB Amsterdam
STATUS:CONFIRMED
CATEGORIES:westerpark,funk,amsterdam-west
END:VEVENT
BEGIN:VEVENT
UID:20911@offbeat.amsterdam
SUMMARY:Orpheu The Wizard • Simone de Kunovich
DTSTAMP:20260420T062528Z
DTSTART:20260530T210000Z
DTEND:20260531T030000Z
URL:https://offbeat.amsterdam/event/orpheu-the-wizard-simone-de-kunovich
LOCATION:Radio Radio - Pazzanistraat 3\, 1014 DB Amsterdam
STATUS:CONFIRMED
CATEGORIES:amsterdam-west,westerpark
END:VEVENT
END:VCALENDAR
